BEGIN:VCALENDAR
VERSION:2.0
PRODID:-//Lisa Thomas - ECPv6.0.4//NONSGML v1.0//EN
CALSCALE:GREGORIAN
METHOD:PUBLISH
X-ORIGINAL-URL:https://www.lisa-thomas.de
X-WR-CALDESC:Veranstaltungen für Lisa Thomas
REFRESH-INTERVAL;VALUE=DURATION:PT1H
X-Robots-Tag:noindex
X-PUBLISHED-TTL:PT1H
BEGIN:VTIMEZONE
TZID:Europe/Berlin
BEGIN:DAYLIGHT
TZOFFSETFROM:+0100
TZOFFSETTO:+0200
TZNAME:CEST
DTSTART:20180325T010000
END:DAYLIGHT
BEGIN:STANDARD
TZOFFSETFROM:+0200
TZOFFSETTO:+0100
TZNAME:CET
DTSTART:20181028T010000
END:STANDARD
END:VTIMEZONE
BEGIN:VEVENT
DTSTART;TZID=Europe/Berlin:20180720T153000
DTEND;TZID=Europe/Berlin:20180720T190000
DTSTAMP:20260420T002853
CREATED:20180523T114043Z
LAST-MODIFIED:20180524T140825Z
UID:586-1532100600-1532113200@www.lisa-thomas.de
SUMMARY:SAAL FREI 3   intensiv:  Improvisation mit Lilo Stahl
DESCRIPTION:Ein besonderes Angebot: Lilo Stahl\, deren Arbeit für die Improvisationskunst beim ImproVisions Festival 2017 so viel Begeisterung geschaffen hat\, kommt wieder nach Stuttgart! Ein intensives Training für TänzerInnen\, Bewegungserfahrene und ImprovisationskünstlerInnen mit folgenden Inhalten: \nWahrnehmung sensibilisieren * Durchlässigkeit verfeinern * Reaktionsschnelligkeit üben * Bewegungsvielfalt entdecken * Gestaltungsprinzipien erforschen * ImproTools erlernen * bewusste Interaktion schulen * Energie befeuern * Instant Composition \nEine gemeinsame Performance vor Publikum ist dann am Abend der künstlerische Abschluss des gemeinsamen Arbeitens. \nWann:                       Freitag\, den 20.07.2018 \nZeiten:                      Workshop     15:30 – 19:00 \nPerformance 20:00 \nKosten:                     € 40.- / 33.-    Ermäßigung für Schüler/Studenten/PZ-Mitglieder \nFrühbucher bis 20.06.2018 \nAnmeldung:            kontakt@lisa-thomas.de \n  \nLilo Stahl – bewegungs-art Freiburg\, seit 2006 Co-Leitung der stahlt genehmigten Vollzeitausbildung TIP – Schule für Tanz\, Improvisation und Performance. Sie tanzte Solo – und Ensemblestücke u.a.(87 – 91) in Anzu Furukawas internationaler Company Dance Butter Tokio. Seit Mitte der Neunziger folgt sie ihrer Liebe zur Improvisation; forscht\, tanzt und performt in Internationalen Besetzungen mit Tänzern und Musikern und ist Mitglied von The Human Factory: next step is… mit Harald Kimmig\, Geraldine Keller\, Hideto Heshiki\, Michael Schumacher und Michael Shapira.
URL:https://www.lisa-thomas.de/veranstaltung/saal-frei-3-intensiv-improvisation-mit-lilo-stahl/
LOCATION:Produktionszentrum Tanz + Performance e.V.\, Tunnelstr. 16\, Stuttgart\, 70469\, Deutschland
CATEGORIES:Workshops
ATTACH;FMTTYPE=image/jpeg:https://www.lisa-thomas.de/wp-content/uploads/2018/05/FPA1327c.jpg
END:VEVENT
BEGIN:VEVENT
DTSTART;TZID=Europe/Berlin:20180720T200000
DTEND;TZID=Europe/Berlin:20180720T210000
DTSTAMP:20260420T002853
CREATED:20180523T113219Z
LAST-MODIFIED:20180524T140805Z
UID:582-1532116800-1532120400@www.lisa-thomas.de
SUMMARY:SAAL FREI 3
DESCRIPTION:Ein besonderes Angebot: Lilo Stahl\, deren Arbeit für die Improvisationskunst beim ImproVisions Festival 2017 so viel Begeisterung geschaffen hat\, kommt wieder nach Stuttgart! Ein intensives Training für TänzerInnen\, Bewegungserfahrene und ImprovisationskünstlerInnen mit folgenden Inhalten: \nWahrnehmung sensibilisieren * Durchlässigkeit verfeinern * Reaktionsschnelligkeit üben * Bewegungsvielfalt entdecken * Gestaltungsprinzipien erforschen * ImproTools erlernen * bewusste Interaktion schulen * Energie befeuern * Instant Composition \nEine gemeinsame Performance vor Publikum ist dann am Abend der künstlerische Abschluss des gemeinsamen Arbeitens. \nWann:                       Freitag\, den 20.07.2018 \nZeiten:                      Workshop     15:30 – 19:00 \nPerformance 20:00 \nKosten:                     € 40.- / 33.-    Ermäßigung für Schüler/Studenten/PZ-Mitglieder \nFrühbucher bis 20.06.2018 \nAnmeldung:            kontakt@lisa-thomas.de \n  \nLilo Stahl – bewegungs-art Freiburg\, seit 2006 Co-Leitung der staatl. genehmigten Vollzeitausbildung TIP – Schule für Tanz\, Improvisation und Performance. Sie tanzte Solo – und Ensemblestücke u.a.(87 – 91) in Anzug Furukawas internationaler Company Dance Butter Tokio. Seit Mitte der Neunziger folgt sie ihrer Liebe zur Improvisation; forscht\, tanzt und performt in Internationalen Besetzungen mit Tänzern und Musikern und ist Mitglied von The Human Factory: next step is… mit Harald Kimmig\, Geraldine Keller\, Hideto Heshiki\, Michael Schumacher und Michael Shapira. \n  \n 
URL:https://www.lisa-thomas.de/veranstaltung/saal-frei-3/
LOCATION:Produktionszentrum Tanz + Performance e.V.\, Tunnelstr. 16\, Stuttgart\, 70469\, Deutschland
CATEGORIES:Performances,Performances-Saalfrei
ATTACH;FMTTYPE=image/jpeg:https://www.lisa-thomas.de/wp-content/uploads/2018/05/FPA1353c.jpg
END:VEVENT
END:VCALENDAR