BEGIN:VCALENDAR
VERSION:2.0
PRODID:-//Lisa Thomas - ECPv6.0.4//NONSGML v1.0//EN
CALSCALE:GREGORIAN
METHOD:PUBLISH
X-ORIGINAL-URL:https://www.lisa-thomas.de
X-WR-CALDESC:Veranstaltungen für Lisa Thomas
REFRESH-INTERVAL;VALUE=DURATION:PT1H
X-Robots-Tag:noindex
X-PUBLISHED-TTL:PT1H
BEGIN:VTIMEZONE
TZID:Europe/Berlin
BEGIN:DAYLIGHT
TZOFFSETFROM:+0100
TZOFFSETTO:+0200
TZNAME:CEST
DTSTART:20180325T010000
END:DAYLIGHT
BEGIN:STANDARD
TZOFFSETFROM:+0200
TZOFFSETTO:+0100
TZNAME:CET
DTSTART:20181028T010000
END:STANDARD
END:VTIMEZONE
BEGIN:VEVENT
DTSTART;VALUE=DATE:20180117
DTEND;VALUE=DATE:20180719
DTSTAMP:20260420T043639
CREATED:20180314T201945Z
LAST-MODIFIED:20180711T081525Z
UID:464-1516147200-1531958399@www.lisa-thomas.de
SUMMARY:IMPROVISATION - LABOR 2018
DESCRIPTION:Einmal im Monat bieten Lisa Thomas oder Petra Stransky einen Abend zu Experimenten mit Körper\, Bewegung und Tanz an. Im Vordergrund stehen fachübergreifende Experimente zwischen Tanz\, Schauspiel und Performance; eine spartenübergreifende Teilnahme ist erwünscht! Wie gewohnt werden Petra und Lisa das Impro-Labor im Wechsel leiten: Beginnend mit einem Warm-Up und einer Einführung in das Thema und die Struktur\, bis zu dem Punkt\, an dem das gemeinsam Erarbeitete in dynamische Bewegungsabläufe und Tanzen mündet. \nProfessionelles kollegiales ImproTraining findet wöchentlich im Produktionszentrum statt\, bei Interesse bitte Kontakt aufnehmen. \neinmal im Monat mittwochs 19 - 21 Uhr\n21.03. (Petra Stransky)/ 18.04. (Petra Stransky)/ 16.05.(Lisa Thomas)/ 20.06.(Petra Stransky)/ 18.07.(Lisa Thomas)\nAnmeldung via Mail oder Homepage / Betreff: Improvisation Labor
URL:https://www.lisa-thomas.de/veranstaltung/improvisation-labor/
LOCATION:Produktionszentrum Tanz + Performance e.V.\, Tunnelstr. 16\, Stuttgart\, 70469\, Deutschland
CATEGORIES:Allgemeines Training,Profitraining,veranstaltungen
ATTACH;FMTTYPE=image/jpeg:https://www.lisa-thomas.de/wp-content/uploads/2018/03/VielFalt2019.jpg
END:VEVENT
BEGIN:VEVENT
DTSTART;VALUE=DATE:20180222
DTEND;VALUE=DATE:20180720
DTSTAMP:20260420T043639
CREATED:20180314T165523Z
LAST-MODIFIED:20180315T120353Z
UID:458-1519257600-1532044799@www.lisa-thomas.de
SUMMARY:Zeitgenössisches Tanz- und Körpertraining 2018
DESCRIPTION:Das Trai­ning rich­tet sich da­nach aus\, einen mo­bi­len und wand­lungs­fä­hi­gen Kör­per zu su­chen\, der sich auf viele Arten ent­fal­ten und aus­drü­cken kann. Wir set­zen uns mit Me­tho­den aus Kör­per­wahr­neh­mung\, zeit­ge­nös­si­schem Tanz und Thea­ter aus­ein­an­der. Der Kurs rich­tet sich an Men­schen mit Vor­er­fah­rung in Be­we­gung/Tanz\, eben­falls sind Men­schen aus dem Be­reich Thea­ter/Thea­ter­päd­ago­gik an­ge­spro­chen\, die ein be­we­gungs­ori­en­tier­tes Trai­ning su­chen. Spä­te­rer Ein­stieg mög­lich! \nMo. 10 – 11:30 Uhr für 60+\nDo. 19:30 – 21 Uhr für Erwachsene
URL:https://www.lisa-thomas.de/veranstaltung/zeitgenoessisches-tanz-und-koerpertraining-2/
LOCATION:Tanz- und Theaterwerkstatt Ludwigsburg\, Hindenburgstraße 29\, Ludwigsburg\, 71638
CATEGORIES:Allgemeines Training,Training 60+
ATTACH;FMTTYPE=image/jpeg:https://www.lisa-thomas.de/wp-content/uploads/2018/03/Open-Stage-TTW-2016Yakup-Zeyrek.jpg
END:VEVENT
BEGIN:VEVENT
DTSTART;VALUE=DATE:20180408
DTEND;VALUE=DATE:20180717
DTSTAMP:20260420T043639
CREATED:20180413T142923Z
LAST-MODIFIED:20180413T144517Z
UID:523-1523145600-1531785599@www.lisa-thomas.de
SUMMARY:Zeitgenössisches Tanz- und Körpertraining 2018
DESCRIPTION:Das Trai­ning rich­tet sich da­nach aus\, einen mo­bi­len und wand­lungs­fä­hi­gen Kör­per zu su­chen\, der sich auf viele Arten ent­fal­ten und aus­drü­cken kann. Wir set­zen uns mit Me­tho­den aus Kör­per­wahr­neh­mung\, zeit­ge­nös­si­schem Tanz und Thea­ter aus­ein­an­der. Der Kurs rich­tet sich an Men­schen mit Vor­er­fah­rung in Be­we­gung/Tanz\, eben­falls sind Men­schen aus dem Be­reich Thea­ter/Thea­ter­päd­ago­gik an­ge­spro­chen\, die ein be­we­gungs­ori­en­tier­tes Trai­ning su­chen. Spä­te­rer Ein­stieg mög­lich! \nMo. 19 – 21 Uhr
URL:https://www.lisa-thomas.de/veranstaltung/zeitgenoessisches-tanz-und-koerpertraining-2018/
LOCATION:TheaterWerkStatt im Wollhaus\, Am Wollhaus 1\, Heilbronn\, 74072
CATEGORIES:Allgemeines Training
ATTACH;FMTTYPE=image/jpeg:https://www.lisa-thomas.de/wp-content/uploads/2018/04/2017_11_26_ZTT-Workshops-So_©PeterPöschl-21.jpg
END:VEVENT
BEGIN:VEVENT
DTSTART;TZID=Europe/Berlin:20180504T200000
DTEND;TZID=Europe/Berlin:20180504T210000
DTSTAMP:20260420T043639
CREATED:20180523T110444Z
LAST-MODIFIED:20180523T110841Z
UID:567-1525464000-1525467600@www.lisa-thomas.de
SUMMARY:SAAL FREI 1
DESCRIPTION:Die erste Performance dieser Reihe zeigt eine Auseinandersetzung mit bildnerischen Arbeiten des Künstlers Andreas Hoffmann\, eine Begegnung an der Schnittstelle von Tanz – Körper – Skulptur. \nLeder – konservierte Haut\, \nausgetrocknet und brüchig\, \nschrundig\, zerschnitten \nwird bewegt zu neuer Form gebracht \nIn der Performance zeigt sich die Resonanz  von Material\, Körper und Raum in immer neuen Wandlungen. Sie schließt den Zuschauern ein weites Assoziationsfeld zwischen belebten\, unbelebten\, abstrakten\, figurativen und emotionalen Aussagen auf. \n  \nPerformance: Andreas Hoffmann\, Claudia Senoner\, Lisa Thomas  \nSoundtrack:   Andeas Hoffmann \nEintritt:                 Spendenbasis \n  \nAndreas Hoffmann\, Ammerbuch\, ist Künstler\, Performer und Kunstvermittler im Spannungsfeld zwischen bildender und darstellender Kunst. Er ist Dozent für Theater- und Kunstpädagogik u.a. bei der LAG Theaterpädagogik\, div. Schulen und Hochschulen mit dem Schwerpunkt Körpertheater und Performance. National und international entstanden und entstehen Performances und Kunstprojekte bei Festivals\, in Museen\, Galerien und im Theaterbereich. Er ist Initiator und Kurator von Ausstellungen\, Festivals und Symposien u.a. von „fields of vision“ international Performance Art Festival 2017 und 2019 in Reutlingen und Tübingen. \nwww.hoffmann-kunst.de \nClaudia Senoner arbeitet als Choreografin\, Performerin und Tanzpädagogin.Ausgebildet an der Bayerischen Staatsoper\, heute avantgardistische Grenzgängerin zwischen Klassischem und Zeitgenössischem Tanz. Verleihung des Förderpreises Tanz der Stadt München. Seit 2012 lebt sie in Stuttgart. Hier entstanden bislang die Projekte „Iss mich“\, Die Kette\, ZONEN 4.2\, PARABOL\, so wie zuletzt Living Utopia in einem Stuttgarter Garten. Claudia Senoner arbeitet auch unter dem Label C&C very specific scenarios mit dem Choreografen Fabian Chyle zusammen. Intensive künstlerische Zusammenarbeit mit den Musikern und Komponisten M.L.Kysela\, Michael Meierhof und ARNO. Des weiteren entstanden Kurzfilme und Aktionen in der Zusammenarbeit mit Anja Uhlig. \nwww.tanztendenz.de \nLisa Thomas arbeitet als Dozentin\, Tänzerin\, Tanzpädagogin und Choreografin. Im Produktionszentrum Tanz und Performance Stuttgart\, an der Tanz- und Theaterwerkstatt Ludwigsburg und der Kunstschule Ludwigsburg unterrichtet sie seit vielen Jahren zeitgenössischen Tanz und Improvisation. Sie ist künstlerische Leiterin des Altentanztheaters Zartbitter\, des Festivals VielFalten\, und realisiert eigene Produktionen. Als Tänzerin focussiert sie sich künstlerisch auf live improvisierte Performances in Auseinandersetzung mit Sprache\, Musik und Bildender Kunst. Lisa Thomas etablierte 2016 – 2018 in Zusammenarbeit mit Petra Stransky die interdisziplinäre Plattform InproVisions in Stuttgart mit dem Rechercheformat FreiTag im PZ und dem Festival ImproVisions 2016 und 2017. \n 
URL:https://www.lisa-thomas.de/veranstaltung/saalfrei-1-2/
LOCATION:Produktionszentrum Tanz + Performance e.V.\, Tunnelstr. 16\, Stuttgart\, 70469\, Deutschland
CATEGORIES:Performances,Performances-Saalfrei
ATTACH;FMTTYPE=image/jpeg:https://www.lisa-thomas.de/wp-content/uploads/2018/05/DSC00265.jpg
END:VEVENT
END:VCALENDAR